BEGIN:VCALENDAR
VERSION:2.0
PRODID:-//Craftiques Mall - San Antonio Vintage Collectibles and Crafts - ECPv6.15.20//NONSGML v1.0//EN
CALSCALE:GREGORIAN
METHOD:PUBLISH
X-WR-CALNAME:Craftiques Mall - San Antonio Vintage Collectibles and Crafts
X-ORIGINAL-URL:https://craftiquesmall.com
X-WR-CALDESC:Events for Craftiques Mall - San Antonio Vintage Collectibles and Crafts
REFRESH-INTERVAL;VALUE=DURATION:PT1H
X-Robots-Tag:noindex
X-PUBLISHED-TTL:PT1H
BEGIN:VTIMEZONE
TZID:America/Chicago
BEGIN:DAYLIGHT
TZOFFSETFROM:-0600
TZOFFSETTO:-0500
TZNAME:CDT
DTSTART:20220313T080000
END:DAYLIGHT
BEGIN:STANDARD
TZOFFSETFROM:-0500
TZOFFSETTO:-0600
TZNAME:CST
DTSTART:20221106T070000
END:STANDARD
BEGIN:DAYLIGHT
TZOFFSETFROM:-0600
TZOFFSETTO:-0500
TZNAME:CDT
DTSTART:20230312T080000
END:DAYLIGHT
BEGIN:STANDARD
TZOFFSETFROM:-0500
TZOFFSETTO:-0600
TZNAME:CST
DTSTART:20231105T070000
END:STANDARD
BEGIN:DAYLIGHT
TZOFFSETFROM:-0600
TZOFFSETTO:-0500
TZNAME:CDT
DTSTART:20240310T080000
END:DAYLIGHT
BEGIN:STANDARD
TZOFFSETFROM:-0500
TZOFFSETTO:-0600
TZNAME:CST
DTSTART:20241103T070000
END:STANDARD
END:VTIMEZONE
BEGIN:VEVENT
DTSTART;TZID=America/Chicago:20230820T120000
DTEND;TZID=America/Chicago:20230820T140000
DTSTAMP:20260422T152047
CREATED:20230817T011027Z
LAST-MODIFIED:20230817T011027Z
UID:10705-1692532800-1692540000@craftiquesmall.com
SUMMARY:Lunch Time Tea n' Tunes
DESCRIPTION:
URL:https://craftiquesmall.com/event/lunch-time-tea-n-tunes-215/
LOCATION:Garden Tea Lounge\, 2375 NW Military Hwy\, San Antonio\, TX\, 78231
CATEGORIES:Music
END:VEVENT
BEGIN:VEVENT
DTSTART;TZID=America/Chicago:20230820T113000
DTEND;TZID=America/Chicago:20230820T133000
DTSTAMP:20260422T152047
CREATED:20230815T212817Z
LAST-MODIFIED:20230815T212817Z
UID:10700-1692531000-1692538200@craftiquesmall.com
SUMMARY:Wandering Tea Monk Session
DESCRIPTION:
URL:https://craftiquesmall.com/event/wandering-tea-monk-session-2/
LOCATION:Garden Tea Lounge\, 2375 NW Military Hwy\, San Antonio\, TX\, 78231
CATEGORIES:Classes
END:VEVENT
BEGIN:VEVENT
DTSTART;TZID=America/Chicago:20230819T120000
DTEND;TZID=America/Chicago:20230819T140000
DTSTAMP:20260422T152047
CREATED:20230817T010937Z
LAST-MODIFIED:20230817T010937Z
UID:10704-1692446400-1692453600@craftiquesmall.com
SUMMARY:Lunch Time Tea n' Tunes
DESCRIPTION:
URL:https://craftiquesmall.com/event/lunch-time-tea-n-tunes-214/
LOCATION:Garden Tea Lounge\, 2375 NW Military Hwy\, San Antonio\, TX\, 78231
CATEGORIES:Music
END:VEVENT
BEGIN:VEVENT
DTSTART;TZID=America/Chicago:20230819T090000
DTEND;TZID=America/Chicago:20230819T170000
DTSTAMP:20260422T152047
CREATED:20230813T211546Z
LAST-MODIFIED:20230813T211546Z
UID:10696-1692435600-1692464400@craftiquesmall.com
SUMMARY:Back to School Sale!
DESCRIPTION:
URL:https://craftiquesmall.com/event/back-to-school-sale-4/
LOCATION:Craftiques Mall\, TX\, United States
CATEGORIES:Sales Event
END:VEVENT
BEGIN:VEVENT
DTSTART;TZID=America/Chicago:20230818T170000
DTEND;TZID=America/Chicago:20230818T190000
DTSTAMP:20260422T152047
CREATED:20230817T012033Z
LAST-MODIFIED:20230817T012033Z
UID:10706-1692378000-1692385200@craftiquesmall.com
SUMMARY:Sipping Hour
DESCRIPTION:
URL:https://craftiquesmall.com/event/sipping-hour-47/
LOCATION:Garden Tea Lounge\, 2375 NW Military Hwy\, San Antonio\, TX\, 78231
CATEGORIES:Music
END:VEVENT
BEGIN:VEVENT
DTSTART;TZID=America/Chicago:20230818T120000
DTEND;TZID=America/Chicago:20230818T140000
DTSTAMP:20260422T152047
CREATED:20230817T010851Z
LAST-MODIFIED:20230817T010851Z
UID:10702-1692360000-1692367200@craftiquesmall.com
SUMMARY:Lunch Time Tea n' Tunes
DESCRIPTION:
URL:https://craftiquesmall.com/event/lunch-time-tea-n-tunes-213/
LOCATION:Garden Tea Lounge\, 2375 NW Military Hwy\, San Antonio\, TX\, 78231
CATEGORIES:Music
END:VEVENT
BEGIN:VEVENT
DTSTART;TZID=America/Chicago:20230813T120000
DTEND;TZID=America/Chicago:20230813T140000
DTSTAMP:20260422T152047
CREATED:20230810T232439Z
LAST-MODIFIED:20230810T232439Z
UID:10693-1691928000-1691935200@craftiquesmall.com
SUMMARY:Lunch Time Tea n' Tunes
DESCRIPTION:
URL:https://craftiquesmall.com/event/lunch-time-tea-n-tunes-212/
LOCATION:Garden Tea Lounge\, 2375 NW Military Hwy\, San Antonio\, TX\, 78231
CATEGORIES:Music
END:VEVENT
BEGIN:VEVENT
DTSTART;TZID=America/Chicago:20230813T113000
DTEND;TZID=America/Chicago:20230813T133000
DTSTAMP:20260422T152047
CREATED:20230808T221140Z
LAST-MODIFIED:20230808T221140Z
UID:10686-1691926200-1691933400@craftiquesmall.com
SUMMARY:Wandering Tea Monk Session
DESCRIPTION:
URL:https://craftiquesmall.com/event/wandering-tea-monk-session/
LOCATION:Garden Tea Lounge\, 2375 NW Military Hwy\, San Antonio\, TX\, 78231
CATEGORIES:Classes
END:VEVENT
BEGIN:VEVENT
DTSTART;TZID=America/Chicago:20230812T120000
DTEND;TZID=America/Chicago:20230812T140000
DTSTAMP:20260422T152047
CREATED:20230810T232344Z
LAST-MODIFIED:20230810T232344Z
UID:10692-1691841600-1691848800@craftiquesmall.com
SUMMARY:Lunch Time Tea n' Tunes
DESCRIPTION:
URL:https://craftiquesmall.com/event/lunch-time-tea-n-tunes-211/
LOCATION:Garden Tea Lounge\, 2375 NW Military Hwy\, San Antonio\, TX\, 78231
CATEGORIES:Music
END:VEVENT
BEGIN:VEVENT
DTSTART;TZID=America/Chicago:20230811T170000
DTEND;TZID=America/Chicago:20230811T190000
DTSTAMP:20260422T152047
CREATED:20230810T233410Z
LAST-MODIFIED:20230810T233410Z
UID:10694-1691773200-1691780400@craftiquesmall.com
SUMMARY:Sipping Hour
DESCRIPTION:
URL:https://craftiquesmall.com/event/sipping-hour-46/
LOCATION:Garden Tea Lounge\, 2375 NW Military Hwy\, San Antonio\, TX\, 78231
CATEGORIES:Music
END:VEVENT
BEGIN:VEVENT
DTSTART;TZID=America/Chicago:20230811T120000
DTEND;TZID=America/Chicago:20230811T140000
DTSTAMP:20260422T152047
CREATED:20230810T232240Z
LAST-MODIFIED:20230810T232240Z
UID:10690-1691755200-1691762400@craftiquesmall.com
SUMMARY:Lunch Time Tea n' Tunes
DESCRIPTION:
URL:https://craftiquesmall.com/event/lunch-time-tea-n-tunes-210/
LOCATION:Garden Tea Lounge\, 2375 NW Military Hwy\, San Antonio\, TX\, 78231
CATEGORIES:Music
END:VEVENT
BEGIN:VEVENT
DTSTART;TZID=America/Chicago:20230806T120000
DTEND;TZID=America/Chicago:20230806T140000
DTSTAMP:20260422T152047
CREATED:20230802T201022Z
LAST-MODIFIED:20230802T201022Z
UID:10682-1691323200-1691330400@craftiquesmall.com
SUMMARY:Lunch Time Tea n' Tunes
DESCRIPTION:
URL:https://craftiquesmall.com/event/lunch-time-tea-n-tunes-209/
LOCATION:Garden Tea Lounge\, 2375 NW Military Hwy\, San Antonio\, TX\, 78231
CATEGORIES:Music
END:VEVENT
BEGIN:VEVENT
DTSTART;TZID=America/Chicago:20230805T120000
DTEND;TZID=America/Chicago:20230805T140000
DTSTAMP:20260422T152047
CREATED:20230802T200915Z
LAST-MODIFIED:20230802T200915Z
UID:10681-1691236800-1691244000@craftiquesmall.com
SUMMARY:Lunch Time Tea n' Tunes
DESCRIPTION:
URL:https://craftiquesmall.com/event/lunch-time-tea-n-tunes-208/
LOCATION:Garden Tea Lounge\, 2375 NW Military Hwy\, San Antonio\, TX\, 78231
CATEGORIES:Music
END:VEVENT
BEGIN:VEVENT
DTSTART;TZID=America/Chicago:20230804T170000
DTEND;TZID=America/Chicago:20230804T190000
DTSTAMP:20260422T152047
CREATED:20230802T202546Z
LAST-MODIFIED:20230802T202546Z
UID:10683-1691168400-1691175600@craftiquesmall.com
SUMMARY:Sipping Hour
DESCRIPTION:
URL:https://craftiquesmall.com/event/sipping-hour-45/
LOCATION:Garden Tea Lounge\, 2375 NW Military Hwy\, San Antonio\, TX\, 78231
CATEGORIES:Music
END:VEVENT
BEGIN:VEVENT
DTSTART;TZID=America/Chicago:20230804T120000
DTEND;TZID=America/Chicago:20230804T140000
DTSTAMP:20260422T152047
CREATED:20230802T200818Z
LAST-MODIFIED:20230802T200818Z
UID:10679-1691150400-1691157600@craftiquesmall.com
SUMMARY:Lunch Time Tea n' Tunes
DESCRIPTION:
URL:https://craftiquesmall.com/event/lunch-time-tea-n-tunes-207/
LOCATION:Garden Tea Lounge\, 2375 NW Military Hwy\, San Antonio\, TX\, 78231
CATEGORIES:Music
END:VEVENT
BEGIN:VEVENT
DTSTART;TZID=America/Chicago:20230731T113000
DTEND;TZID=America/Chicago:20230731T133000
DTSTAMP:20260422T152047
CREATED:20230728T235720Z
LAST-MODIFIED:20230728T235720Z
UID:10676-1690803000-1690810200@craftiquesmall.com
SUMMARY:Gong Fu Cha Hosted Tea Session
DESCRIPTION:
URL:https://craftiquesmall.com/event/gong-fu-cha-hosted-tea-session-8/
LOCATION:Garden Tea Lounge\, 2375 NW Military Hwy\, San Antonio\, TX\, 78231
CATEGORIES:Classes
END:VEVENT
BEGIN:VEVENT
DTSTART;TZID=America/Chicago:20230730T120000
DTEND;TZID=America/Chicago:20230730T140000
DTSTAMP:20260422T152047
CREATED:20230727T005834Z
LAST-MODIFIED:20230727T005834Z
UID:10672-1690718400-1690725600@craftiquesmall.com
SUMMARY:Lunch Time Tea n' Tunes
DESCRIPTION:
URL:https://craftiquesmall.com/event/lunch-time-tea-n-tunes-206/
LOCATION:Garden Tea Lounge\, 2375 NW Military Hwy\, San Antonio\, TX\, 78231
CATEGORIES:Music
END:VEVENT
BEGIN:VEVENT
DTSTART;TZID=America/Chicago:20230729T120000
DTEND;TZID=America/Chicago:20230729T140000
DTSTAMP:20260422T152047
CREATED:20230727T005732Z
LAST-MODIFIED:20230727T005732Z
UID:10671-1690632000-1690639200@craftiquesmall.com
SUMMARY:Lunch Time Tea n' Tunes
DESCRIPTION:
URL:https://craftiquesmall.com/event/lunch-time-tea-n-tunes-205/
LOCATION:Garden Tea Lounge\, 2375 NW Military Hwy\, San Antonio\, TX\, 78231
CATEGORIES:Music
END:VEVENT
BEGIN:VEVENT
DTSTART;TZID=America/Chicago:20230728T170000
DTEND;TZID=America/Chicago:20230728T190000
DTSTAMP:20260422T152047
CREATED:20230727T011227Z
LAST-MODIFIED:20230727T011227Z
UID:10673-1690563600-1690570800@craftiquesmall.com
SUMMARY:Sipping Hour
DESCRIPTION:
URL:https://craftiquesmall.com/event/sipping-hour-44/
LOCATION:Garden Tea Lounge\, 2375 NW Military Hwy\, San Antonio\, TX\, 78231
CATEGORIES:Music
END:VEVENT
BEGIN:VEVENT
DTSTART;TZID=America/Chicago:20230728T120000
DTEND;TZID=America/Chicago:20230728T140000
DTSTAMP:20260422T152047
CREATED:20230727T005634Z
LAST-MODIFIED:20230727T005634Z
UID:10669-1690545600-1690552800@craftiquesmall.com
SUMMARY:Lunch Time Tea n' Tunes
DESCRIPTION:
URL:https://craftiquesmall.com/event/lunch-time-tea-n-tunes-204/
LOCATION:Garden Tea Lounge\, 2375 NW Military Hwy\, San Antonio\, TX\, 78231
CATEGORIES:Music
END:VEVENT
BEGIN:VEVENT
DTSTART;TZID=America/Chicago:20230723T120000
DTEND;TZID=America/Chicago:20230723T140000
DTSTAMP:20260422T152047
CREATED:20230719T231209Z
LAST-MODIFIED:20230719T231209Z
UID:10664-1690113600-1690120800@craftiquesmall.com
SUMMARY:Lunch Time Tea n' Tunes
DESCRIPTION:
URL:https://craftiquesmall.com/event/lunch-time-tea-n-tunes-203/
LOCATION:Garden Tea Lounge\, 2375 NW Military Hwy\, San Antonio\, TX\, 78231
CATEGORIES:Music
END:VEVENT
BEGIN:VEVENT
DTSTART;TZID=America/Chicago:20230723T113000
DTEND;TZID=America/Chicago:20230723T133000
DTSTAMP:20260422T152047
CREATED:20230719T124813Z
LAST-MODIFIED:20230719T124813Z
UID:10656-1690111800-1690119000@craftiquesmall.com
SUMMARY:Gong Fu Cha Hosted Tea Session
DESCRIPTION:
URL:https://craftiquesmall.com/event/gong-fu-cha-hosted-tea-session-7/
LOCATION:Garden Tea Lounge\, 2375 NW Military Hwy\, San Antonio\, TX\, 78231
CATEGORIES:Classes
END:VEVENT
BEGIN:VEVENT
DTSTART;TZID=America/Chicago:20230722T120000
DTEND;TZID=America/Chicago:20230722T140000
DTSTAMP:20260422T152047
CREATED:20230719T231123Z
LAST-MODIFIED:20230719T231123Z
UID:10663-1690027200-1690034400@craftiquesmall.com
SUMMARY:Lunch Time Tea n' Tunes
DESCRIPTION:
URL:https://craftiquesmall.com/event/lunch-time-tea-n-tunes-202/
LOCATION:Garden Tea Lounge\, 2375 NW Military Hwy\, San Antonio\, TX\, 78231
CATEGORIES:Music
END:VEVENT
BEGIN:VEVENT
DTSTART;TZID=America/Chicago:20230722T090000
DTEND;TZID=America/Chicago:20230722T170000
DTSTAMP:20260422T152047
CREATED:20230720T163837Z
LAST-MODIFIED:20230720T163837Z
UID:10665-1690016400-1690045200@craftiquesmall.com
SUMMARY:Summer Breeze Sale!
DESCRIPTION:
URL:https://craftiquesmall.com/event/summer-breeze-sale-2/
LOCATION:Craftiques Mall\, TX\, United States
CATEGORIES:Sales Event
END:VEVENT
BEGIN:VEVENT
DTSTART;TZID=America/Chicago:20230721T170000
DTEND;TZID=America/Chicago:20230721T190000
DTSTAMP:20260422T152047
CREATED:20230719T230037Z
LAST-MODIFIED:20230719T230037Z
UID:10658-1689958800-1689966000@craftiquesmall.com
SUMMARY:Sipping Hour
DESCRIPTION:
URL:https://craftiquesmall.com/event/sipping-hour-43/
LOCATION:Garden Tea Lounge\, 2375 NW Military Hwy\, San Antonio\, TX\, 78231
CATEGORIES:Music
END:VEVENT
BEGIN:VEVENT
DTSTART;TZID=America/Chicago:20230721T120000
DTEND;TZID=America/Chicago:20230721T140000
DTSTAMP:20260422T152047
CREATED:20230719T231020Z
LAST-MODIFIED:20230719T231020Z
UID:10661-1689940800-1689948000@craftiquesmall.com
SUMMARY:Lunch Time Tea n' Tunes
DESCRIPTION:
URL:https://craftiquesmall.com/event/lunch-time-tea-n-tunes-201/
LOCATION:Garden Tea Lounge\, 2375 NW Military Hwy\, San Antonio\, TX\, 78231
CATEGORIES:Music
END:VEVENT
BEGIN:VEVENT
DTSTART;TZID=America/Chicago:20230716T120000
DTEND;TZID=America/Chicago:20230716T140000
DTSTAMP:20260422T152047
CREATED:20230712T165248Z
LAST-MODIFIED:20230712T165248Z
UID:10649-1689508800-1689516000@craftiquesmall.com
SUMMARY:Lunch Time Tea n' Tunes
DESCRIPTION:
URL:https://craftiquesmall.com/event/lunch-time-tea-n-tunes-200/
LOCATION:Garden Tea Lounge\, 2375 NW Military Hwy\, San Antonio\, TX\, 78231
CATEGORIES:Music
END:VEVENT
BEGIN:VEVENT
DTSTART;TZID=America/Chicago:20230716T113000
DTEND;TZID=America/Chicago:20230716T133000
DTSTAMP:20260422T152047
CREATED:20230713T202917Z
LAST-MODIFIED:20230713T202917Z
UID:10653-1689507000-1689514200@craftiquesmall.com
SUMMARY:Gong Fu Cha Hosted Tea Session
DESCRIPTION:
URL:https://craftiquesmall.com/event/gong-fu-cha-hosted-tea-session-6/
LOCATION:Garden Tea Lounge\, 2375 NW Military Hwy\, San Antonio\, TX\, 78231
CATEGORIES:Classes
END:VEVENT
BEGIN:VEVENT
DTSTART;TZID=America/Chicago:20230715T120000
DTEND;TZID=America/Chicago:20230715T140000
DTSTAMP:20260422T152047
CREATED:20230712T165051Z
LAST-MODIFIED:20230712T165051Z
UID:10648-1689422400-1689429600@craftiquesmall.com
SUMMARY:Lunch Time Tea n' Tunes
DESCRIPTION:
URL:https://craftiquesmall.com/event/lunch-time-tea-n-tunes-199/
LOCATION:Garden Tea Lounge\, 2375 NW Military Hwy\, San Antonio\, TX\, 78231
CATEGORIES:Music
END:VEVENT
BEGIN:VEVENT
DTSTART;TZID=America/Chicago:20230714T170000
DTEND;TZID=America/Chicago:20230714T190000
DTSTAMP:20260422T152047
CREATED:20230712T170530Z
LAST-MODIFIED:20230712T170530Z
UID:10650-1689354000-1689361200@craftiquesmall.com
SUMMARY:Sipping Hour
DESCRIPTION:
URL:https://craftiquesmall.com/event/sipping-hour-42/
LOCATION:Garden Tea Lounge\, 2375 NW Military Hwy\, San Antonio\, TX\, 78231
CATEGORIES:Music
END:VEVENT
END:VCALENDAR